BEGIN:VCALENDAR
VERSION:2.0
PRODID: -//Q4 Inc.//EN
METHOD:PUBLISH
BEGIN:VTIMEZONE
TZID:America/New_York
X-LIC-LOCATION:America/New_York
BEGIN:DAYLIGHT
TZOFFSETFROM:-0500
TZOFFSETTO:-0400
TZNAME:EDT
DTSTART:19700308T020000
RRULE:FREQ=YEARLY;BYMONTH=3;BYDAY=2SU
END:DAYLIGHT
BEGIN:STANDARD
TZOFFSETFROM:-0400
TZOFFSETTO:-0500
TZNAME:EST
DTSTART:19701101T020000
RRULE:FREQ=YEARLY;BYMONTH=11;BYDAY=1SU
END:STANDARD
END:VTIMEZONE
BEGIN:VEVENT
ORGANIZER:MAILTO:ir@dios.se
DTSTART;TZID="America/New_York":20260429T030000
DTEND;TZID="America/New_York":20260429T040000
LOCATION:
UID:43639f86-7cf0-48f3-bd95-524867dafe5e
DTSTAMP:20260420T221050
SUMMARY:Interim report Jan-Mar 2026
DESCRIPTION: View More Information: https://investors.dios.se/English/reports-and-presentations/calendar/event-details/2026/Interim-report-Jan-Mar-2026/default.aspx
URL;VALUE=URI:https://investors.dios.se/English/reports-and-presentations/calendar/event-details/2026/Interim-report-Jan-Mar-2026/default.aspx
PRIORITY:5
CLASS:PUBLIC
END:VEVENT
END:VCALENDAR
